BEGIN:VCALENDAR
VERSION:2.0
PRODID:-//Iona Bonneville Sewer District - ECPv6.15.17.1//NONSGML v1.0//EN
CALSCALE:GREGORIAN
METHOD:PUBLISH
X-WR-CALNAME:Iona Bonneville Sewer District
X-ORIGINAL-URL:https://sewerdistrict.com
X-WR-CALDESC:Events for Iona Bonneville Sewer District
REFRESH-INTERVAL;VALUE=DURATION:PT1H
X-Robots-Tag:noindex
X-PUBLISHED-TTL:PT1H
BEGIN:VTIMEZONE
TZID:America/Boise
BEGIN:DAYLIGHT
TZOFFSETFROM:-0700
TZOFFSETTO:-0600
TZNAME:MDT
DTSTART:20240310T090000
END:DAYLIGHT
BEGIN:STANDARD
TZOFFSETFROM:-0600
TZOFFSETTO:-0700
TZNAME:MST
DTSTART:20241103T080000
END:STANDARD
BEGIN:DAYLIGHT
TZOFFSETFROM:-0700
TZOFFSETTO:-0600
TZNAME:MDT
DTSTART:20250309T090000
END:DAYLIGHT
BEGIN:STANDARD
TZOFFSETFROM:-0600
TZOFFSETTO:-0700
TZNAME:MST
DTSTART:20251102T080000
END:STANDARD
BEGIN:DAYLIGHT
TZOFFSETFROM:-0700
TZOFFSETTO:-0600
TZNAME:MDT
DTSTART:20260308T090000
END:DAYLIGHT
BEGIN:STANDARD
TZOFFSETFROM:-0600
TZOFFSETTO:-0700
TZNAME:MST
DTSTART:20261101T080000
END:STANDARD
END:VTIMEZONE
BEGIN:VEVENT
DTSTART;TZID=America/Boise:20250618T180000
DTEND;TZID=America/Boise:20250618T190000
DTSTAMP:20260421T155553
CREATED:20250616T224105Z
LAST-MODIFIED:20250616T224421Z
UID:10000046-1750269600-1750273200@sewerdistrict.com
SUMMARY:2025-06-18 Monthly Board Meeting
DESCRIPTION:
URL:https://sewerdistrict.com/event/monthly-board-meeting-3/
CATEGORIES:Board Meeting
END:VEVENT
END:VCALENDAR