BEGIN:VCALENDAR
VERSION:2.0
PRODID:-//Iona Bonneville Sewer District - ECPv6.15.17.1//NONSGML v1.0//EN
CALSCALE:GREGORIAN
METHOD:PUBLISH
X-WR-CALNAME:Iona Bonneville Sewer District
X-ORIGINAL-URL:https://sewerdistrict.com
X-WR-CALDESC:Events for Iona Bonneville Sewer District
REFRESH-INTERVAL;VALUE=DURATION:PT1H
X-Robots-Tag:noindex
X-PUBLISHED-TTL:PT1H
BEGIN:VTIMEZONE
TZID:America/Boise
BEGIN:DAYLIGHT
TZOFFSETFROM:-0700
TZOFFSETTO:-0600
TZNAME:MDT
DTSTART:20210314T090000
END:DAYLIGHT
BEGIN:STANDARD
TZOFFSETFROM:-0600
TZOFFSETTO:-0700
TZNAME:MST
DTSTART:20211107T080000
END:STANDARD
BEGIN:DAYLIGHT
TZOFFSETFROM:-0700
TZOFFSETTO:-0600
TZNAME:MDT
DTSTART:20220313T090000
END:DAYLIGHT
BEGIN:STANDARD
TZOFFSETFROM:-0600
TZOFFSETTO:-0700
TZNAME:MST
DTSTART:20221106T080000
END:STANDARD
BEGIN:DAYLIGHT
TZOFFSETFROM:-0700
TZOFFSETTO:-0600
TZNAME:MDT
DTSTART:20230312T090000
END:DAYLIGHT
BEGIN:STANDARD
TZOFFSETFROM:-0600
TZOFFSETTO:-0700
TZNAME:MST
DTSTART:20231105T080000
END:STANDARD
BEGIN:DAYLIGHT
TZOFFSETFROM:-0700
TZOFFSETTO:-0600
TZNAME:MDT
DTSTART:20240310T090000
END:DAYLIGHT
BEGIN:STANDARD
TZOFFSETFROM:-0600
TZOFFSETTO:-0700
TZNAME:MST
DTSTART:20241103T080000
END:STANDARD
END:VTIMEZONE
BEGIN:VEVENT
DTSTART;TZID=America/Boise:20230215T180000
DTEND;TZID=America/Boise:20230215T180000
DTSTAMP:20260422T155146
CREATED:20220915T075135Z
LAST-MODIFIED:20220915T075241Z
UID:10000006-1676484000-1676484000@sewerdistrict.com
SUMMARY:Board Meeting
DESCRIPTION:
URL:https://sewerdistrict.com/event/board-meeting/2023-02-15/
LOCATION:IBSD office
CATEGORIES:Board Meeting
END:VEVENT
BEGIN:VEVENT
DTSTART;TZID=America/Boise:20230118T180000
DTEND;TZID=America/Boise:20230118T180000
DTSTAMP:20260422T155146
CREATED:20220915T075135Z
LAST-MODIFIED:20220915T075241Z
UID:10000005-1674064800-1674064800@sewerdistrict.com
SUMMARY:Board Meeting
DESCRIPTION:
URL:https://sewerdistrict.com/event/board-meeting/2023-01-18/
LOCATION:IBSD office
CATEGORIES:Board Meeting
END:VEVENT
BEGIN:VEVENT
DTSTART;TZID=America/Boise:20221221T180000
DTEND;TZID=America/Boise:20221221T180000
DTSTAMP:20260422T155146
CREATED:20220915T075135Z
LAST-MODIFIED:20220915T075241Z
UID:10000004-1671645600-1671645600@sewerdistrict.com
SUMMARY:Board Meeting
DESCRIPTION:
URL:https://sewerdistrict.com/event/board-meeting/2022-12-21/
LOCATION:IBSD office
CATEGORIES:Board Meeting
END:VEVENT
BEGIN:VEVENT
DTSTART;TZID=America/Boise:20221116T180000
DTEND;TZID=America/Boise:20221116T180000
DTSTAMP:20260422T155146
CREATED:20220915T075135Z
LAST-MODIFIED:20220915T075241Z
UID:10000003-1668621600-1668621600@sewerdistrict.com
SUMMARY:Board Meeting
DESCRIPTION:
URL:https://sewerdistrict.com/event/board-meeting/2022-11-16/
LOCATION:IBSD office
CATEGORIES:Board Meeting
END:VEVENT
BEGIN:VEVENT
DTSTART;TZID=America/Boise:20221019T180000
DTEND;TZID=America/Boise:20221019T180000
DTSTAMP:20260422T155146
CREATED:20220915T075135Z
LAST-MODIFIED:20220915T075241Z
UID:10000002-1666202400-1666202400@sewerdistrict.com
SUMMARY:Board Meeting
DESCRIPTION:
URL:https://sewerdistrict.com/event/board-meeting/2022-10-19/
LOCATION:IBSD office
CATEGORIES:Board Meeting
END:VEVENT
BEGIN:VEVENT
DTSTART;TZID=America/Boise:20220921T180000
DTEND;TZID=America/Boise:20220921T180000
DTSTAMP:20260422T155146
CREATED:20220915T075135Z
LAST-MODIFIED:20220915T075241Z
UID:10000001-1663783200-1663783200@sewerdistrict.com
SUMMARY:Board Meeting
DESCRIPTION:
URL:https://sewerdistrict.com/event/board-meeting/2022-09-21/
LOCATION:IBSD office
CATEGORIES:Board Meeting
END:VEVENT
END:VCALENDAR